BEGIN:VCALENDAR
VERSION:2.0
PRODID:-//Eventin//Event Calendar//EN
CALSCALE:GREGORIAN
METHOD:PUBLISH
BEGIN:VEVENT
UID:3134ef1fbd14a1e7d60d271f12ecbbdd@tienda.caminodevida.com
SUMMARY:CONFERENCIA 1 - HAY MÁS
DESCRIPTION:
LOCATION:Lima - Perú
DTSTAMP:20260422T063714Z
DTSTART:20260916T230000Z
DTEND:20260917T150000Z
END:VEVENT
END:VCALENDAR
