BEGIN:VCALENDAR
VERSION:2.0
PRODID:-//Eventin//Event Calendar//EN
CALSCALE:GREGORIAN
METHOD:PUBLISH
BEGIN:VEVENT
UID:af9e8cd9b26c7581d4b6a9b973fb2320@tienda.caminodevida.com
SUMMARY:CONFERENCIA 2 - HAY MÁS
DESCRIPTION:
LOCATION:Lima - Perú
DTSTAMP:20260422T063527Z
DTSTART:20260918T230000Z
DTEND:20260919T150000Z
END:VEVENT
END:VCALENDAR
